BEGIN:VCALENDAR
VERSION:2.0
PRODID:-//Net-Pharma - ECPv6.11.2.1//NONSGML v1.0//EN
CALSCALE:GREGORIAN
METHOD:PUBLISH
X-WR-CALNAME:Net-Pharma
X-ORIGINAL-URL:https://net-pharma.com
X-WR-CALDESC:Events for Net-Pharma
REFRESH-INTERVAL;VALUE=DURATION:PT1H
X-Robots-Tag:noindex
X-PUBLISHED-TTL:PT1H
BEGIN:VTIMEZONE
TZID:Europe/Madrid
BEGIN:DAYLIGHT
TZOFFSETFROM:+0100
TZOFFSETTO:+0200
TZNAME:CEST
DTSTART:20250330T010000
END:DAYLIGHT
BEGIN:STANDARD
TZOFFSETFROM:+0200
TZOFFSETTO:+0100
TZNAME:CET
DTSTART:20251026T010000
END:STANDARD
END:VTIMEZONE
BEGIN:VEVENT
DTSTART;TZID=Europe/Madrid:20250910T103000
DTEND;TZID=Europe/Madrid:20250910T130000
DTSTAMP:20260421T095551
CREATED:20250714T113019Z
LAST-MODIFIED:20250829T070732Z
UID:20843-1757500200-1757509200@net-pharma.com
SUMMARY:DdD I Desayuno De Directivos 10 Septiembre
DESCRIPTION:REGÍSTRATE                \n				        \n				\n				\n				\n				\n							Desayuno De Directivos I 10 de Septiembre  En esta nueva edición de nuestro Desayuno De Directivos\, daremos la bienvenida a cinco nuevos miembros\, además de presentar a uno de nuestros socios fundadores como en anteriores DdD. Nuevas incorporaciones a NET-PHARMA HUB: 🔹 Acir Southern Europe I Compañía dedicada al desarrollo de las relaciones comerciales\, económicas e industriales entre los países de Asia Central y Europa del Sur.  🔹 Coyma I Líneas completas de fabricación y envasado para las industrias farmacéutica\, dietética\, cosmética y alimentaria. Ingeniería de salas blancas\, proyectos llaves en mano. 🔹 Covex Lab I Net&LabsLaboratorio farmacéutico\, con 40 años de experiencia en la fabricación de API’s\, alcaloides derivados de la vinca\, para toda la industria farmacéutica a nivel mundial. 🔹 Aza Logistic  I Operador logístico especializado en operaciones internas de almacén: recepción\, control de stock\, preparación de pedidos\, manipulados\, servicios asociados a dirección técnica y distribución 🔹 Phizero I Empresa que investiga\, diseña e implementa soluciones para la automatización industrial en los sectores alimentario\, médico y de embalaje. Socio fundador destacado: 🔹 Tradichem I Líder mundial en el desarrollo\, marketing y fabricación de nutracéuticos y API. Su éxito se debe a las alianzas estratégicas con clientes y socios en más de 50 países\, que nos brindan un conocimiento y comprensión integral del mercado. Tras las presentaciones\, disfrutaremos de nuestro tradicional brunch de networking lleno de sorpresas\, una oportunidad única para conectar con la comunidad NET-PHARMA HUB\, explorar sinergias y crear nuevas alianzas estratégicas. 						\n				\n				\n				\n			AGENDA		\n				\n					\n				\n				\n						\n					\n			\n						\n				\n			10.00 - 10.30		\n				\n					\n		\n				\n			\n						\n				\n							Acto de firmas de nuevas empresas Sala Ramón y Cajal						\n				\n					\n		\n					\n		\n				\n						\n					\n			\n						\n				\n			10.30  - 11.00		\n				\n					\n		\n				\n			\n						\n				\n							Recepción asistentes Welcome coffee						\n				\n					\n		\n					\n		\n				\n						\n					\n			\n						\n				\n			11.00  - 12.00 		\n				\n					\n		\n				\n			\n						\n				\n							Presentaciones nuevas empresas Acir Southern EuropeCoymaCovex LabAza LogisticPhizeroTradichem						\n				\n					\n		\n					\n		\n				\n						\n					\n			\n						\n				\n			12.00  - 13.00		\n				\n					\n		\n				\n			\n						\n				\n							Brunch Networking
URL:https://net-pharma.com/evento/ddd-i-desayuno-de-directivos-10-septiembre-2025/
LOCATION:Edificio NET- PHARMA\, Carr. de Fuencarral\, 22\, 28108 Alcobendas\, Madrid\, Edificio NET- PHARMA\, Carr. de Fuencarral\, 22\, 28108 Alcobendas\, Madrid\, 28108\, Spain
CATEGORIES:DdD
ATTACH;FMTTYPE=image/jpeg:https://net-pharma.com/wp-content/uploads/2025/05/Foto-DdD.jpg
ORGANIZER;CN="Net-Pharma Hub":MAILTO:contact@net-pharma.com
END:VEVENT
END:VCALENDAR