BEGIN:VCALENDAR
VERSION:2.0
PRODID:-//Net-Pharma - ECPv6.11.2.1//NONSGML v1.0//EN
CALSCALE:GREGORIAN
METHOD:PUBLISH
X-WR-CALNAME:Net-Pharma
X-ORIGINAL-URL:https://net-pharma.com
X-WR-CALDESC:Events for Net-Pharma
REFRESH-INTERVAL;VALUE=DURATION:PT1H
X-Robots-Tag:noindex
X-PUBLISHED-TTL:PT1H
BEGIN:VTIMEZONE
TZID:Europe/Madrid
BEGIN:DAYLIGHT
TZOFFSETFROM:+0100
TZOFFSETTO:+0200
TZNAME:CEST
DTSTART:20250330T010000
END:DAYLIGHT
BEGIN:STANDARD
TZOFFSETFROM:+0200
TZOFFSETTO:+0100
TZNAME:CET
DTSTART:20251026T010000
END:STANDARD
END:VTIMEZONE
BEGIN:VEVENT
DTSTART;TZID=Europe/Madrid:20251113T103000
DTEND;TZID=Europe/Madrid:20251113T130000
DTSTAMP:20260421T100454
CREATED:20251016T141803Z
LAST-MODIFIED:20251017T105741Z
UID:21301-1763029800-1763038800@net-pharma.com
SUMMARY:DdD I Desayuno De Directivos 13 Noviembre
DESCRIPTION:REGÍSTRATE                \n				        \n				\n				\n				\n				\n							Desayuno De Directivos I 13 Noviembre El próximo 13 de noviembre tienes una cita en las instalaciones de Net-Pharma Hub. Durante el encuentro\, contaremos con las presentaciones de nuevas incorporaciones confirmadas hasta la fecha: 🔹  Propack Solutions  Servicios de impresión. Expertos en envase farmacéutico dando apoyo con servicios como la impresión de bobinas de aluminio\, y la financiación de maquinaria a través de la compra de cápsulas de gelatina dura y de bobinas de aluminio. 🔹 Appliant  Digitalización del proceso de fabricación; capacitando a nuestros clientes para producir medicamentos más asequibles\, más rápidos y de calidad para los pacientes. 🔹Fundación Teófilo Hernando I+D+i del medicamento a la investigación preclínica y clínica de medicamentos y a la formación de personal investigador y de futuros líderes de la industria farmacéutica\, asegurando proyectos de alta calidad y eficacia en los tiempos. Socio fundador: 🔹 Mapbiopharma Especializada en la distribución de una amplia gama de ingredientes farmacéuticos activos (API) y formas farmacéuticas terminadas (FDF) para la salud humana y animal en todo el mundo. Una cita imprescindible para: Conocer a nuevos miembros y partnersCompartir sinergias e ideasDisfrutar del networking  post-presentaciones y fortalecer vínculos dentro de la comunidad Net-Pharma Hub👉 Reserva la fecha y asegúrate tu plaza 						\n				\n				\n				\n			AGENDA		\n				\n					\n				\n				\n						\n					\n			\n						\n				\n			10.00 - 10.30		\n				\n					\n		\n				\n			\n						\n				\n							Acto de firmas de nuevas empresas Sala Ramón y Cajal						\n				\n					\n		\n					\n		\n				\n						\n					\n			\n						\n				\n			10.30  - 11.00		\n				\n					\n		\n				\n			\n						\n				\n							Recepción asistentes Welcome coffee						\n				\n					\n		\n					\n		\n				\n						\n					\n			\n						\n				\n			11.00  - 12.00 		\n				\n					\n		\n				\n			\n						\n				\n							Presentaciones nuevas empresas Propack SolutionsAppliantFundación Teófilo HernandoMapbiopharma						\n				\n					\n		\n					\n		\n				\n						\n					\n			\n						\n				\n			12.00  - 13.00		\n				\n					\n		\n				\n			\n						\n				\n							Brunch Networking
URL:https://net-pharma.com/evento/ddd-i-desayuno-de-directivos-13-noviembre/
LOCATION:Net-Pharma Hub Madrid\, Edificio NET- PHARMA\, Carr. de Fuencarral\, 22\, Madrid\, 28108
CATEGORIES:DdD
ATTACH;FMTTYPE=image/jpeg:https://net-pharma.com/wp-content/uploads/2025/10/DdD.jpg
ORGANIZER;CN="Net-Pharma Hub":MAILTO:contact@net-pharma.com
END:VEVENT
END:VCALENDAR