BEGIN:VCALENDAR
VERSION:2.0
PRODID:-//Net-Pharma - ECPv6.11.2.1//NONSGML v1.0//EN
CALSCALE:GREGORIAN
METHOD:PUBLISH
X-WR-CALNAME:Net-Pharma
X-ORIGINAL-URL:https://net-pharma.com
X-WR-CALDESC:Events for Net-Pharma
REFRESH-INTERVAL;VALUE=DURATION:PT1H
X-Robots-Tag:noindex
X-PUBLISHED-TTL:PT1H
BEGIN:VTIMEZONE
TZID:Europe/Madrid
BEGIN:DAYLIGHT
TZOFFSETFROM:+0100
TZOFFSETTO:+0200
TZNAME:CEST
DTSTART:20250330T010000
END:DAYLIGHT
BEGIN:STANDARD
TZOFFSETFROM:+0200
TZOFFSETTO:+0100
TZNAME:CET
DTSTART:20251026T010000
END:STANDARD
END:VTIMEZONE
BEGIN:VEVENT
DTSTART;TZID=Europe/Madrid:20251204T090000
DTEND;TZID=Europe/Madrid:20251204T150000
DTSTAMP:20260421T111428
CREATED:20251118T083833Z
LAST-MODIFIED:20251119T141159Z
UID:21455-1764838800-1764860400@net-pharma.com
SUMMARY:Requisitos para la Importación y Distribución de Productos Sanitarios
DESCRIPTION:REGÍSTRATE\n					\n					\n		\n				\n				\n				\n				\n							Omologic\, Consultoría Técnica en Marcado CE\, Soluciones de Zeidt y AZA Logistics organizan la jornada `Requisitos en importación y distribución de productos sanitarios´ que tendrá lugar el próximo 4 de diciembre en las instalaciones de NET-PHARMA HUB. El evento profundizará en la situación actual del sector\, el marco regulatorio y los retos para fabricantes\, importadores y distribuidores de productos sanitarios. Durante la jornada se abordarán diferentes aspectos claves como los requisitos regulatorios para la importación y distribución de producto sanitarios\, la gestión aduanera e introducción en el mercado de producto sanitario al mercado europeo\, la trazabilidad y almacenamiento de PS bajo ISO 13485. Además\, revisaremos casos reales en la gestión de declaraciones de distribución\, almacenamiento e importación de productos sanitarios (DOIFE) y concluiremos con una mesa redonda sobre los retos y perspectivas del sector. ¡Una jornada que no te puedes perder\, te esperamos! 🗓 04 de diciembre de 2025🕛 09:30h-15:00h‪📍 Edif. Net-Pharma Hub Alcobendas | Ctra. de Fuencarral 22 (Madrid) Catering incluido y servicio de aparcacoches incluido. 						\n				\n					\n				\n		\n					\n				\n				\n																										\n				\n					\n				\n				\n						\n					\n			\n						\n				\n			ORGANIZADORES:
URL:https://net-pharma.com/evento/importacionydistribuciondeproductossanitarios/
LOCATION:Net-Pharma Hub Madrid\, Edificio NET- PHARMA\, Carr. de Fuencarral\, 22\, Madrid\, 28108
CATEGORIES:Jornada
ATTACH;FMTTYPE=image/png:https://net-pharma.com/wp-content/uploads/2025/11/Imagen-destacada-Net-Pharma-JORNADA-780-x-520-px.png
END:VEVENT
END:VCALENDAR