BEGIN:VCALENDAR
VERSION:2.0
PRODID:-//Net-Pharma - ECPv6.11.2.1//NONSGML v1.0//EN
CALSCALE:GREGORIAN
METHOD:PUBLISH
X-WR-CALNAME:Net-Pharma
X-ORIGINAL-URL:https://net-pharma.com
X-WR-CALDESC:Events for Net-Pharma
REFRESH-INTERVAL;VALUE=DURATION:PT1H
X-Robots-Tag:noindex
X-PUBLISHED-TTL:PT1H
BEGIN:VTIMEZONE
TZID:Europe/Madrid
BEGIN:DAYLIGHT
TZOFFSETFROM:+0100
TZOFFSETTO:+0200
TZNAME:CEST
DTSTART:20250330T010000
END:DAYLIGHT
BEGIN:STANDARD
TZOFFSETFROM:+0200
TZOFFSETTO:+0100
TZNAME:CET
DTSTART:20251026T010000
END:STANDARD
END:VTIMEZONE
BEGIN:VEVENT
DTSTART;TZID=Europe/Madrid:20251203T103000
DTEND;TZID=Europe/Madrid:20251203T140000
DTSTAMP:20260421T111611
CREATED:20251017T093948Z
LAST-MODIFIED:20251126T154213Z
UID:21319-1764757800-1764770400@net-pharma.com
SUMMARY:Impacto de la IA en la Industria Pharma
DESCRIPTION:En esta jornada exploraremos cómo la Inteligencia Artificial impulsa la competitividad y eficiencia en la industria farmacéutica. Abordaremos casos reales\, barreras culturales y regulatorias\, y cómo integrar la IA de forma segura y rentable en el día a día de las organizaciones desde la oficina a la planta de producción. 						\n				\n				\n				\n					\n			\n						\n									REGÍSTRATE\n					\n					\n		\n				\n				\n					\n				\n		\n					\n				\n				\n																										\n				\n					\n				\n				\n						\n					\n			\n						\n				\n			10.30 - 11.00		\n				\n					\n		\n				\n			\n						\n				\n							Recepción y acreditación Welcome Coffee						\n				\n					\n		\n					\n		\n				\n						\n					\n			\n						\n				\n			11.00  - 11.15		\n				\n					\n		\n				\n			\n						\n				\n							Bienvenida Net-Pharma Hub Marín Orriols. Director General Net-Pharma Hub						\n				\n					\n		\n					\n		\n				\n						\n					\n			\n						\n				\n			11.15  - 11.30		\n				\n					\n		\n				\n			\n						\n				\n							Introducción. Entendiendo la IA en clave pharma. Del potencial a la adopción Speaker: Pier Paolo Rossi (CDO. IA Senior Advisor. KOOB) ¿Qué es la IA? ¿Hacia dónde vamos en la industria farmacéutica? Cómo introducir la IA\, cómo implementarla y cómo acompañar a las empresas en este proceso. ¿Por dónde empezamos? 						\n				\n					\n		\n					\n		\n				\n							\n							\n					\n			\n						\n				\n			MESA REDONDA 1		\n				\n					\n		\n					\n		\n				\n						\n					\n			\n						\n				\n			11.30 - 12.30		\n				\n					\n		\n				\n			\n						\n				\n							Mesa Redonda 1: IA en nuestro día a día. De la oficina a la planta. Oportunidades y amenazas. Moderador: Pier Paolo Rossi (CDO. IA Senior Advisor. KOOB) Speakers Jorge Méndez (CEO AMZ Global)Alejandro Negro (Consejero Propiedad Intelectual – Cuatrecasas)Eduardo Ávila (System Engineer AG Solution)Santiago Díaz (Advanta es Associate VP – Customer Partner for Farma Siemens)						\n				\n					\n		\n					\n		\n				\n							\n							\n					\n			\n						\n				\n			MESA REDONDA 2		\n				\n					\n		\n					\n		\n				\n						\n					\n			\n						\n				\n			12.30  - 13.30		\n				\n					\n		\n				\n			\n						\n				\n							Mesa Redonda 2: IA aplicada a procesos. Casos reales\, aprendizajes y retos Moderador: Marc Olivé (Industry 4.0 Strategy Director AG Solution) Speakers Soledad Hernández (Business Development Manager Qualipharma)Aníbal Reñones (Director del Área de Industria 4.0 Cartif)José Antonio Coca (Consultor Senior C&C Hybrid Consulting)Celia Linares (Analytical Development Manager Famar)						\n				\n					\n		\n					\n		\n				\n						\n					\n			\n						\n				\n			13.30  - 13.40		\n				\n					\n		\n				\n			\n						\n				\n							Convocatoria sobre la Inteligencia Artificial aplicada al ámbito de la salud (AVS Consulting) 						\n				\n					\n		\n					\n		\n				\n							\n							\n					\n			\n						\n				\n			CÓCTEL - FIN DE JORNADA		\n				\n					\n		\n					\n		\n				\n						\n					\n			\n						\n				\n			13.40 - 14.30		\n				\n					\n		\n				\n			\n						\n				\n							Vino español – Networking 						\n				\n					\n		\n					\n		\n				\n						\n					\n			\n						\n				\n			ORGANIZADOR:
URL:https://net-pharma.com/evento/jornadaimpactodelaia/
LOCATION:Net-Pharma Hub Madrid\, Edificio NET- PHARMA\, Carr. de Fuencarral\, 22\, Madrid\, 28108
CATEGORIES:Jornada
ATTACH;FMTTYPE=image/png:https://net-pharma.com/wp-content/uploads/2025/10/Jornada-IA.png
ORGANIZER;CN="Net-Pharma Hub":MAILTO:contact@net-pharma.com
END:VEVENT
END:VCALENDAR